Package: nempi Version: 1.17.0 Command: rm -rf nempi.buildbin-libdir && mkdir nempi.buildbin-libdir && /Users/biocbuild/BBS/utils/build-universal.sh nempi_1.17.0.tar.gz /Library/Frameworks/R.framework/Resources/bin/R nempi.buildbin-libdir StartedAt: 2025-10-25 01:53:04 -0400 (Sat, 25 Oct 2025) EndedAt: 2025-10-25 01:53:29 -0400 (Sat, 25 Oct 2025) EllapsedTime: 25.4 seconds RetCode: 0 Status: OK PackageFile: nempi_1.17.0.tgz PackageFileSize: 649.9 KiB