Package: nempi Version: 1.17.0 Command: /Library/Frameworks/R.framework/Resources/bin/R CMD INSTALL nempi StartedAt: 2025-09-30 15:09:42 -0400 (Tue, 30 Sep 2025) EndedAt: 2025-09-30 15:09:50 -0400 (Tue, 30 Sep 2025) EllapsedTime: 8.0 seconds RetCode: 0 Status: OK