Package: nempi Version: 1.17.0 Command: /Library/Frameworks/R.framework/Resources/bin/R CMD build --keep-empty-dirs --no-resave-data nempi StartedAt: 2025-09-30 17:15:11 -0400 (Tue, 30 Sep 2025) EndedAt: 2025-09-30 17:15:28 -0400 (Tue, 30 Sep 2025) EllapsedTime: 17.2 seconds RetCode: 0 Status: OK PackageFile: nempi_1.17.0.tar.gz PackageFileSize: 603.1 KiB