Package: nearBynding Version: 1.19.1 Command: /home/biocbuild/bbs-3.22-bioc/R/bin/R CMD INSTALL nearBynding StartedAt: 2025-10-14 15:59:24 -0400 (Tue, 14 Oct 2025) EndedAt: 2025-10-14 16:00:07 -0400 (Tue, 14 Oct 2025) EllapsedTime: 43.4 seconds RetCode: 0 Status: OK