Package: ndexr Version: 1.33.0 Command: /home/biocbuild/bbs-3.23-bioc/R/bin/R CMD check --install=check:ndexr.install-out.txt --library=/home/biocbuild/bbs-3.23-bioc/R/site-library --timings ndexr_1.33.0.tar.gz StartedAt: 2025-11-03 01:33:24 -0500 (Mon, 03 Nov 2025) EndedAt: 2025-11-03 01:34:29 -0500 (Mon, 03 Nov 2025) EllapsedTime: 65.1 seconds RetCode: 0 Status: OK CheckDir: ndexr.Rcheck Warnings: 0