Package: ncdfFlow Version: 2.55.0 Command: F:\biocbuild\bbs-3.22-bioc\R\bin\R.exe CMD INSTALL ncdfFlow StartedAt: 2025-08-14 15:43:34 -0400 (Thu, 14 Aug 2025) EndedAt: 2025-08-14 15:44:28 -0400 (Thu, 14 Aug 2025) EllapsedTime: 53.7 seconds RetCode: 0 Status: OK