Package: ncdfFlow Version: 2.55.0 Command: rm -rf ncdfFlow.buildbin-libdir && mkdir ncdfFlow.buildbin-libdir && F:\biocbuild\bbs-3.22-bioc\R\bin\R.exe CMD INSTALL --build --library=ncdfFlow.buildbin-libdir ncdfFlow_2.55.0.tar.gz StartedAt: 2025-08-15 10:49:44 -0400 (Fri, 15 Aug 2025) EndedAt: 2025-08-15 10:50:53 -0400 (Fri, 15 Aug 2025) EllapsedTime: 68.7 seconds RetCode: 0 Status: OK PackageFile: ncdfFlow_2.55.0.zip PackageFileSize: 1.896 MiB