Package: ncdfFlow Version: 2.57.0 Command: /home/biocbuild/bbs-3.23-bioc/R/bin/R CMD INSTALL ncdfFlow StartedAt: 2025-11-02 15:20:06 -0500 (Sun, 02 Nov 2025) EndedAt: 2025-11-02 15:20:20 -0500 (Sun, 02 Nov 2025) EllapsedTime: 13.7 seconds RetCode: 0 Status: OK