Package: ncdfFlow Version: 2.57.0 Command: /home/biocbuild/bbs-3.23-bioc/R/bin/R CMD check --install=check:ncdfFlow.install-out.txt --library=/home/biocbuild/bbs-3.23-bioc/R/site-library --timings ncdfFlow_2.57.0.tar.gz StartedAt: 2025-11-06 01:55:19 -0500 (Thu, 06 Nov 2025) EndedAt: 2025-11-06 01:56:53 -0500 (Thu, 06 Nov 2025) EllapsedTime: 94.1 seconds RetCode: 0 Status: WARNINGS CheckDir: ncdfFlow.Rcheck Warnings: 3