Package: ncdfFlow Version: 2.57.0 Command: /home/biocbuild/bbs-3.23-bioc/R/bin/R CMD build --keep-empty-dirs --no-resave-data ncdfFlow StartedAt: 2025-10-31 19:06:38 -0400 (Fri, 31 Oct 2025) EndedAt: 2025-10-31 19:07:02 -0400 (Fri, 31 Oct 2025) EllapsedTime: 24.0 seconds RetCode: 0 Status: OK PackageFile: ncdfFlow_2.57.0.tar.gz PackageFileSize: 198.7 KiB