Package: ncdfFlow Version: 2.55.0 Command: /Library/Frameworks/R.framework/Resources/bin/R CMD build --keep-empty-dirs --no-resave-data ncdfFlow StartedAt: 2025-09-29 17:10:18 -0400 (Mon, 29 Sep 2025) EndedAt: 2025-09-29 17:10:30 -0400 (Mon, 29 Sep 2025) EllapsedTime: 12.1 seconds RetCode: 0 Status: OK PackageFile: ncdfFlow_2.55.0.tar.gz PackageFileSize: 198.6 KiB