Package: ncRNAtools Version: 1.19.0 Command: /home/biocbuild/R/R/bin/R CMD INSTALL ncRNAtools StartedAt: 2025-10-09 21:10:25 -0000 (Thu, 09 Oct 2025) EndedAt: 2025-10-09 21:10:42 -0000 (Thu, 09 Oct 2025) EllapsedTime: 16.4 seconds RetCode: 0 Status: OK