Package: ncRNAtools Version: 1.19.0 Command: /home/biocbuild/R/R/bin/R CMD build --keep-empty-dirs --no-resave-data ncRNAtools StartedAt: 2025-10-10 02:36:04 -0000 (Fri, 10 Oct 2025) EndedAt: 2025-10-10 02:37:03 -0000 (Fri, 10 Oct 2025) EllapsedTime: 59.1 seconds RetCode: 0 Status: OK PackageFile: ncRNAtools_1.19.0.tar.gz PackageFileSize: 308.5 KiB