Package: ncRNAtools Version: 1.19.0 Command: chmod a+r ncRNAtools -R && F:\biocbuild\bbs-3.22-bioc\R\bin\R.exe CMD build --keep-empty-dirs --no-resave-data ncRNAtools StartedAt: 2025-08-14 21:53:41 -0400 (Thu, 14 Aug 2025) EndedAt: 2025-08-14 21:54:51 -0400 (Thu, 14 Aug 2025) EllapsedTime: 70.6 seconds RetCode: 0 Status: OK PackageFile: ncRNAtools_1.19.0.tar.gz PackageFileSize: 289.4 KiB