Package: ncRNAtools Version: 1.19.0 Command: rm -rf ncRNAtools.buildbin-libdir && mkdir ncRNAtools.buildbin-libdir && F:\biocbuild\bbs-3.22-bioc\R\bin\R.exe CMD INSTALL --build --library=ncRNAtools.buildbin-libdir ncRNAtools_1.19.0.tar.gz StartedAt: 2025-08-15 10:49:58 -0400 (Fri, 15 Aug 2025) EndedAt: 2025-08-15 10:50:34 -0400 (Fri, 15 Aug 2025) EllapsedTime: 35.3 seconds RetCode: 0 Status: OK PackageFile: ncRNAtools_1.19.0.zip PackageFileSize: 367.2 KiB