Package: ncRNAtools Version: 1.21.0 Command: /home/biocbuild/bbs-3.23-bioc/R/bin/R CMD check --install=check:ncRNAtools.install-out.txt --library=/home/biocbuild/bbs-3.23-bioc/R/site-library --timings ncRNAtools_1.21.0.tar.gz StartedAt: 2025-11-07 01:45:46 -0500 (Fri, 07 Nov 2025) EndedAt: 2025-11-07 01:48:40 -0500 (Fri, 07 Nov 2025) EllapsedTime: 174.2 seconds RetCode: 0 Status: OK CheckDir: ncRNAtools.Rcheck Warnings: 0