Package: ncGTW Version: 1.25.0 Command: /home/biocbuild/bbs-3.23-bioc/R/bin/R CMD INSTALL ncGTW StartedAt: 2025-11-17 15:42:23 -0500 (Mon, 17 Nov 2025) EndedAt: 2025-11-17 15:43:26 -0500 (Mon, 17 Nov 2025) EllapsedTime: 63.8 seconds RetCode: 0 Status: OK