Package: ncGTW Version: 1.25.0 Command: /home/biocbuild/bbs-3.23-bioc/R/bin/R CMD build --keep-empty-dirs --no-resave-data ncGTW StartedAt: 2025-11-17 19:05:01 -0500 (Mon, 17 Nov 2025) EndedAt: 2025-11-17 19:08:15 -0500 (Mon, 17 Nov 2025) EllapsedTime: 193.2 seconds RetCode: 0 Status: OK PackageFile: ncGTW_1.25.0.tar.gz PackageFileSize: 2.238 MiB