Package: ncGTW Version: 1.25.0 Command: /Library/Frameworks/R.framework/Resources/bin/R CMD INSTALL ncGTW StartedAt: 2025-11-16 15:24:25 -0500 (Sun, 16 Nov 2025) EndedAt: 2025-11-16 15:24:51 -0500 (Sun, 16 Nov 2025) EllapsedTime: 25.2 seconds RetCode: 0 Status: OK