Package: ncGTW Version: 1.25.0 Command: /Library/Frameworks/R.framework/Resources/bin/R CMD build --keep-empty-dirs --no-resave-data ncGTW StartedAt: 2025-11-14 17:08:34 -0500 (Fri, 14 Nov 2025) EndedAt: 2025-11-14 17:09:58 -0500 (Fri, 14 Nov 2025) EllapsedTime: 84.0 seconds RetCode: 0 Status: OK PackageFile: ncGTW_1.25.0.tar.gz PackageFileSize: 2.304 MiB