Package: ncGTW Version: 1.25.0 Command: rm -rf ncGTW.buildbin-libdir && mkdir ncGTW.buildbin-libdir && /Users/biocbuild/BBS/utils/build-universal.sh ncGTW_1.25.0.tar.gz /Library/Frameworks/R.framework/Resources/bin/R ncGTW.buildbin-libdir StartedAt: 2025-11-14 23:43:25 -0500 (Fri, 14 Nov 2025) EndedAt: 2025-11-14 23:43:56 -0500 (Fri, 14 Nov 2025) EllapsedTime: 30.6 seconds RetCode: 0 Status: OK PackageFile: ncGTW_1.25.0.tgz PackageFileSize: 2.1 MiB