Package: mzR Version: 2.43.3 Command: /home/biocbuild/R/R/bin/R CMD INSTALL mzR StartedAt: 2025-09-25 20:26:47 -0000 (Thu, 25 Sep 2025) EndedAt: 2025-09-25 20:39:15 -0000 (Thu, 25 Sep 2025) EllapsedTime: 748.3 seconds RetCode: 0 Status: OK