Package: mzR Version: 2.43.3 Command: /home/biocbuild/bbs-3.22-bioc/R/bin/R CMD check --install=check:mzR.install-out.txt --library=/home/biocbuild/bbs-3.22-bioc/R/site-library --timings mzR_2.43.3.tar.gz StartedAt: 2025-10-01 02:10:30 -0400 (Wed, 01 Oct 2025) EndedAt: 2025-10-01 02:11:54 -0400 (Wed, 01 Oct 2025) EllapsedTime: 84.1 seconds RetCode: 0 Status: WARNINGS CheckDir: mzR.Rcheck Warnings: 2