Package: mzR Version: 2.45.0 Command: /home/biocbuild/bbs-3.23-bioc/R/bin/R CMD INSTALL mzR StartedAt: 2025-11-20 15:13:29 -0500 (Thu, 20 Nov 2025) EndedAt: 2025-11-20 15:21:57 -0500 (Thu, 20 Nov 2025) EllapsedTime: 508.3 seconds RetCode: 0 Status: OK