Package: mzR Version: 2.45.0 Command: /home/biocbuild/bbs-3.23-bioc/R/bin/R CMD check --install=check:mzR.install-out.txt --library=/home/biocbuild/bbs-3.23-bioc/R/site-library --timings mzR_2.45.0.tar.gz StartedAt: 2025-11-24 01:55:11 -0500 (Mon, 24 Nov 2025) EndedAt: 2025-11-24 01:56:38 -0500 (Mon, 24 Nov 2025) EllapsedTime: 87.1 seconds RetCode: 0 Status: WARNINGS CheckDir: mzR.Rcheck Warnings: 2