Package: mzID Version: 1.49.0 Command: /home/biocbuild/bbs-3.23-bioc/R/bin/R CMD INSTALL mzID StartedAt: 2025-10-31 15:13:53 -0400 (Fri, 31 Oct 2025) EndedAt: 2025-10-31 15:14:20 -0400 (Fri, 31 Oct 2025) EllapsedTime: 26.6 seconds RetCode: 0 Status: OK