Package: mzID Version: 1.49.0 Command: /home/biocbuild/bbs-3.23-bioc/R/bin/R CMD build --keep-empty-dirs --no-resave-data mzID StartedAt: 2025-10-31 19:05:44 -0400 (Fri, 31 Oct 2025) EndedAt: 2025-10-31 19:05:53 -0400 (Fri, 31 Oct 2025) EllapsedTime: 9.0 seconds RetCode: 0 Status: OK PackageFile: mzID_1.49.0.tar.gz PackageFileSize: 582.2 KiB