Package: mzID Version: 1.49.0 Command: /Library/Frameworks/R.framework/Resources/bin/R CMD INSTALL mzID StartedAt: 2025-11-21 15:13:10 -0500 (Fri, 21 Nov 2025) EndedAt: 2025-11-21 15:14:07 -0500 (Fri, 21 Nov 2025) EllapsedTime: 57.5 seconds RetCode: 0 Status: OK