Package: mzID Version: 1.49.0 Command: /Library/Frameworks/R.framework/Resources/bin/R CMD build --keep-empty-dirs --no-resave-data mzID StartedAt: 2025-11-20 17:57:46 -0500 (Thu, 20 Nov 2025) EndedAt: 2025-11-20 17:58:02 -0500 (Thu, 20 Nov 2025) EllapsedTime: 16.0 seconds RetCode: 0 Status: OK PackageFile: mzID_1.49.0.tar.gz PackageFileSize: 581.9 KiB