Package: mzID Version: 1.49.0 Command: rm -rf mzID.buildbin-libdir && mkdir mzID.buildbin-libdir && /Users/biocbuild/BBS/utils/build-universal.sh mzID_1.49.0.tar.gz /Library/Frameworks/R.framework/Resources/bin/R mzID.buildbin-libdir StartedAt: 2025-11-21 01:46:02 -0500 (Fri, 21 Nov 2025) EndedAt: 2025-11-21 01:46:13 -0500 (Fri, 21 Nov 2025) EllapsedTime: 11.5 seconds RetCode: 0 Status: OK PackageFile: mzID_1.49.0.tgz PackageFileSize: 832.7 KiB