Package: myvariant Version: 1.39.1 Command: /home/biocbuild/bbs-3.22-bioc/R/bin/R CMD check --install=check:myvariant.install-out.txt --library=/home/biocbuild/bbs-3.22-bioc/R/site-library --timings myvariant_1.39.1.tar.gz StartedAt: 2025-10-14 02:31:53 -0400 (Tue, 14 Oct 2025) EndedAt: 2025-10-14 02:37:34 -0400 (Tue, 14 Oct 2025) EllapsedTime: 340.4 seconds RetCode: 0 Status: OK CheckDir: myvariant.Rcheck Warnings: 0