Package: myvariant Version: 1.41.0 Command: /home/biocbuild/bbs-3.23-bioc/R/bin/R CMD INSTALL myvariant StartedAt: 2025-11-19 15:44:09 -0500 (Wed, 19 Nov 2025) EndedAt: 2025-11-19 15:44:51 -0500 (Wed, 19 Nov 2025) EllapsedTime: 42.1 seconds RetCode: 0 Status: OK