Package: myvariant Version: 1.41.0 Command: /home/biocbuild/bbs-3.23-bioc/R/bin/R CMD check --install=check:myvariant.install-out.txt --library=/home/biocbuild/bbs-3.23-bioc/R/site-library --timings myvariant_1.41.0.tar.gz StartedAt: 2025-11-22 01:56:56 -0500 (Sat, 22 Nov 2025) EndedAt: 2025-11-22 02:02:00 -0500 (Sat, 22 Nov 2025) EllapsedTime: 303.6 seconds RetCode: 0 Status: OK CheckDir: myvariant.Rcheck Warnings: 0