Package: myvariant Version: 1.41.0 Command: /home/biocbuild/bbs-3.23-bioc/R/bin/R CMD build --keep-empty-dirs --no-resave-data myvariant StartedAt: 2025-11-19 19:00:26 -0500 (Wed, 19 Nov 2025) EndedAt: 2025-11-19 19:01:32 -0500 (Wed, 19 Nov 2025) EllapsedTime: 65.0 seconds RetCode: 0 Status: OK PackageFile: myvariant_1.41.0.tar.gz PackageFileSize: 158.6 KiB