Package: mygene Version: 1.45.0 Command: /home/biocbuild/bbs-3.22-bioc/R/bin/R CMD INSTALL mygene StartedAt: 2025-10-05 15:41:51 -0400 (Sun, 05 Oct 2025) EndedAt: 2025-10-05 15:42:31 -0400 (Sun, 05 Oct 2025) EllapsedTime: 39.5 seconds RetCode: 0 Status: OK