Package: mygene Version: 1.45.0 Command: /home/biocbuild/bbs-3.22-bioc/R/bin/R CMD build --keep-empty-dirs --no-resave-data --md5 mygene StartedAt: 2025-10-03 18:56:17 -0400 (Fri, 03 Oct 2025) EndedAt: 2025-10-03 18:57:38 -0400 (Fri, 03 Oct 2025) EllapsedTime: 81.1 seconds RetCode: 0 Status: OK PackageFile: mygene_1.45.0.tar.gz PackageFileSize: 167.5 KiB