Package: mutscan Version: 1.1.0 Command: /home/biocbuild/bbs-3.23-bioc/R/bin/R CMD INSTALL mutscan StartedAt: 2025-11-18 16:29:35 -0500 (Tue, 18 Nov 2025) EndedAt: 2025-11-18 16:30:34 -0500 (Tue, 18 Nov 2025) EllapsedTime: 59.0 seconds RetCode: 0 Status: OK