Package: mutscan Version: 1.1.0 Command: /home/biocbuild/bbs-3.23-bioc/R/bin/R CMD build --keep-empty-dirs --no-resave-data mutscan StartedAt: 2025-11-18 19:48:23 -0500 (Tue, 18 Nov 2025) EndedAt: 2025-11-18 19:49:50 -0500 (Tue, 18 Nov 2025) EllapsedTime: 86.1 seconds RetCode: 0 Status: OK PackageFile: mutscan_1.1.0.tar.gz PackageFileSize: 3.54 MiB