Package: muscle Version: 3.51.0 Command: /home/biocbuild/bbs-3.22-bioc/R/bin/R CMD INSTALL muscle StartedAt: 2025-10-03 15:23:35 -0400 (Fri, 03 Oct 2025) EndedAt: 2025-10-03 15:24:20 -0400 (Fri, 03 Oct 2025) EllapsedTime: 45.1 seconds RetCode: 0 Status: OK