Package: muscle Version: 3.51.0 Command: /home/biocbuild/bbs-3.22-bioc/R/bin/R CMD build --keep-empty-dirs --no-resave-data --md5 muscle StartedAt: 2025-10-03 18:55:32 -0400 (Fri, 03 Oct 2025) EndedAt: 2025-10-03 18:56:45 -0400 (Fri, 03 Oct 2025) EllapsedTime: 72.1 seconds RetCode: 0 Status: OK PackageFile: muscle_3.51.0.tar.gz PackageFileSize: 494.9 KiB