Package: muscat Version: 1.23.1 Command: /home/biocbuild/bbs-3.22-bioc/R/bin/R CMD INSTALL muscat StartedAt: 2025-10-05 15:55:38 -0400 (Sun, 05 Oct 2025) EndedAt: 2025-10-05 15:56:16 -0400 (Sun, 05 Oct 2025) EllapsedTime: 38.0 seconds RetCode: 0 Status: OK