Package: muscat Version: 1.23.1 Command: /home/biocbuild/bbs-3.22-bioc/R/bin/R CMD build --keep-empty-dirs --no-resave-data --md5 muscat StartedAt: 2025-10-05 18:59:49 -0400 (Sun, 05 Oct 2025) EndedAt: 2025-10-05 19:05:46 -0400 (Sun, 05 Oct 2025) EllapsedTime: 357.4 seconds RetCode: 0 Status: OK PackageFile: muscat_1.23.1.tar.gz PackageFileSize: 7.059 MiB