Package: mumosa Version: 1.17.0 Command: /home/biocbuild/bbs-3.22-bioc/R/bin/R CMD INSTALL mumosa StartedAt: 2025-10-07 15:57:04 -0400 (Tue, 07 Oct 2025) EndedAt: 2025-10-07 15:57:33 -0400 (Tue, 07 Oct 2025) EllapsedTime: 29.0 seconds RetCode: 0 Status: OK