Package: mumosa Version: 1.17.0 Command: /home/biocbuild/bbs-3.22-bioc/R/bin/R CMD build --keep-empty-dirs --no-resave-data --md5 mumosa StartedAt: 2025-10-07 18:59:54 -0400 (Tue, 07 Oct 2025) EndedAt: 2025-10-07 19:02:13 -0400 (Tue, 07 Oct 2025) EllapsedTime: 139.2 seconds RetCode: 0 Status: OK PackageFile: mumosa_1.17.0.tar.gz PackageFileSize: 622.1 KiB