Package: multtest Version: 2.65.0 Command: /home/biocbuild/R/R/bin/R CMD build --keep-empty-dirs --no-resave-data multtest StartedAt: 2025-10-21 01:37:56 -0000 (Tue, 21 Oct 2025) EndedAt: 2025-10-21 01:37:58 -0000 (Tue, 21 Oct 2025) EllapsedTime: 2.0 seconds RetCode: 0 Status: OK PackageFile: multtest_2.65.0.tar.gz PackageFileSize: 1.235 MiB