Package: multtest Version: 2.65.0 Command: /home/biocbuild/bbs-3.22-bioc/R/bin/R CMD check --install=check:multtest.install-out.txt --library=/home/biocbuild/bbs-3.22-bioc/R/site-library --timings multtest_2.65.0.tar.gz StartedAt: 2025-10-13 02:13:34 -0400 (Mon, 13 Oct 2025) EndedAt: 2025-10-13 02:14:39 -0400 (Mon, 13 Oct 2025) EllapsedTime: 65.1 seconds RetCode: 0 Status: WARNINGS CheckDir: multtest.Rcheck Warnings: 3