Package: multtest Version: 2.67.0 Command: /home/biocbuild/bbs-3.23-bioc/R/bin/R CMD INSTALL multtest StartedAt: 2025-11-20 15:11:29 -0500 (Thu, 20 Nov 2025) EndedAt: 2025-11-20 15:11:40 -0500 (Thu, 20 Nov 2025) EllapsedTime: 11.7 seconds RetCode: 0 Status: OK