Package: multtest Version: 2.67.0 Command: /home/biocbuild/bbs-3.23-bioc/R/bin/R CMD check --install=check:multtest.install-out.txt --library=/home/biocbuild/bbs-3.23-bioc/R/site-library --timings multtest_2.67.0.tar.gz StartedAt: 2025-11-21 01:55:48 -0500 (Fri, 21 Nov 2025) EndedAt: 2025-11-21 01:56:53 -0500 (Fri, 21 Nov 2025) EllapsedTime: 65.1 seconds RetCode: 0 Status: WARNINGS CheckDir: multtest.Rcheck Warnings: 3