Back to Build/check report for BioC 3.23:   simplified   long
ABCDEFGHIJKL[M]NOPQRSTUVWXYZ

This page was generated on 2025-10-31 08:34 -0400 (Fri, 31 Oct 2025).

HostnameOSArch (*)R versionInstalled pkgs
nebbiolo1Linux (Ubuntu 24.04.3 LTS)x86_64R Under development (unstable) (2025-10-20 r88955) -- "Unsuffered Consequences" 4428
Click on any hostname to see more info about the system (e.g. compilers)      (*) as reported by 'uname -p', except on Windows and Mac OS X

All results for package multtest


To the developers/maintainers of the multtest package:
- Allow up to 24 hours (and sometimes 48 hours) for your latest push to git@git.bioconductor.org:packages/multtest.git to reflect on this report. See Troubleshooting Build Report for more information.
- Use the following Renviron settings to reproduce errors and warnings.
- If 'R CMD check' started to fail recently on the Linux builder(s) over a missing dependency, add the missing dependency to 'Suggests:' in your DESCRIPTION file. See Renviron.bioc for more information.

raw results

Package 1402/2321HostnameOS / ArchINSTALLBUILDCHECKBUILD BIN
multtest 2.67.0  (landing page)
Katherine S. Pollard
Snapshot Date: 2025-10-30 13:40 -0400 (Thu, 30 Oct 2025)
git_url: https://git.bioconductor.org/packages/multtest
git_branch: devel
git_last_commit: 877b1b4
git_last_commit_date: 2025-10-29 09:41:53 -0400 (Wed, 29 Oct 2025)
nebbiolo1Linux (Ubuntu 24.04.3 LTS) / x86_64  OK    OK    WARNINGS  YES



Results for Bioconductor software packages that depend directly on package multtest

QUICK STATSOS / ArchINSTALLBUILDCHECKBUILD BIN
nebbiolo1Linux (Ubuntu 24.04.3 LTS) / x86_64
0419
0617
01511
Package 1/23HostnameOS / ArchINSTALLBUILDCHECKBUILD BIN
a4Base 1.59.0  (landing page)
Laure Cougnaud
git_last_commit: 2ae8314
git_last_commit_date: 2025-10-29 10:07:20 -0400
nebbiolo1Linux (Ubuntu 24.04.3 LTS) / x86_64  OK    OK    ERROR  
Package 2/23HostnameOS / ArchINSTALLBUILDCHECKBUILD BIN
ABarray 1.79.0  (landing page)
Yongming Andrew Sun
git_last_commit: 839d701
git_last_commit_date: 2025-10-29 09:58:09 -0400
nebbiolo1Linux (Ubuntu 24.04.3 LTS) / x86_64  OK    OK    OK  YES
Package 3/23HostnameOS / ArchINSTALLBUILDCHECKBUILD BIN
aCGH 1.89.0  (landing page)
Peter Dimitrov
git_last_commit: bbcc194
git_last_commit_date: 2025-10-29 09:55:04 -0400
nebbiolo1Linux (Ubuntu 24.04.3 LTS) / x86_64  OK    OK    OK  YES
Package 4/23HostnameOS / ArchINSTALLBUILDCHECKBUILD BIN
adSplit 1.81.0  (landing page)
Claudio Lottaz
git_last_commit: a2e95b4
git_last_commit_date: 2025-10-29 09:57:38 -0400
nebbiolo1Linux (Ubuntu 24.04.3 LTS) / x86_64  OK    ERROR  skipped
Package 5/23HostnameOS / ArchINSTALLBUILDCHECKBUILD BIN
ALDEx2 1.43.0  (landing page)
Greg Gloor
git_last_commit: 298f21d
git_last_commit_date: 2025-10-29 10:21:46 -0400
nebbiolo1Linux (Ubuntu 24.04.3 LTS) / x86_64  OK    OK    OK  NO, package depends on 'GenomicRanges' which is not available
Package 6/23HostnameOS / ArchINSTALLBUILDCHECKBUILD BIN
anota 1.59.0  (landing page)
Ola Larsson
git_last_commit: fe5dc6d
git_last_commit_date: 2025-10-29 10:07:37 -0400
nebbiolo1Linux (Ubuntu 24.04.3 LTS) / x86_64  OK    OK    OK  YES
Package 7/23HostnameOS / ArchINSTALLBUILDCHECKBUILD BIN
anota2seq 1.33.0  (landing page)
Christian Oertlin , Ola Larsson
git_last_commit: 8d76555
git_last_commit_date: 2025-10-29 10:41:23 -0400
nebbiolo1Linux (Ubuntu 24.04.3 LTS) / x86_64  OK    OK    WARNINGS  NO, package depends on 'DESeq2' which is not available
Package 8/23HostnameOS / ArchINSTALLBUILDCHECKBUILD BIN
BicARE 1.69.0  (landing page)
Pierre Gestraud
git_last_commit: 8dec4bf
git_last_commit_date: 2025-10-29 10:01:51 -0400
nebbiolo1Linux (Ubuntu 24.04.3 LTS) / x86_64  OK    ERROR  skipped
Package 9/23HostnameOS / ArchINSTALLBUILDCHECKBUILD BIN
BulkSignalR 1.3.0  (landing page)
Jean-Philippe Villemin
git_last_commit: 9cefe87
git_last_commit_date: 2025-10-29 11:33:26 -0400
nebbiolo1Linux (Ubuntu 24.04.3 LTS) / x86_64  OK    OK    OK  NO, package depends on 'orthogene' which is not available
Package 10/23HostnameOS / ArchINSTALLBUILDCHECKBUILD BIN
ChIPpeakAnno 3.45.0  (landing page)
Jianhong Ou
git_last_commit: 2e00e23
git_last_commit_date: 2025-10-29 10:03:18 -0400
nebbiolo1Linux (Ubuntu 24.04.3 LTS) / x86_64  ERROR    ERROR  skipped
Package 11/23HostnameOS / ArchINSTALLBUILDCHECKBUILD BIN
GUIDEseq 1.41.0  (landing page)
Lihua Julie Zhu
git_last_commit: 4a812cc
git_last_commit_date: 2025-10-29 10:28:16 -0400
nebbiolo1Linux (Ubuntu 24.04.3 LTS) / x86_64  ERROR    ERROR  skipped
Package 12/23HostnameOS / ArchINSTALLBUILDCHECKBUILD BIN
KCsmart 2.69.0  (landing page)
Jorma de Ronde
git_last_commit: fc58ed6
git_last_commit_date: 2025-10-29 10:01:32 -0400
nebbiolo1Linux (Ubuntu 24.04.3 LTS) / x86_64  OK    OK    WARNINGS  YES
Package 13/23HostnameOS / ArchINSTALLBUILDCHECKBUILD BIN
metabomxtr 1.45.0  (landing page)
Michael Nodzenski
git_last_commit: 832ac4e
git_last_commit_date: 2025-10-29 10:20:39 -0400
nebbiolo1Linux (Ubuntu 24.04.3 LTS) / x86_64  OK    OK    OK  YES
Package 14/23HostnameOS / ArchINSTALLBUILDCHECKBUILD BIN
nethet 1.43.0  (landing page)
Nicolas Staedler
git_last_commit: 603f933
git_last_commit_date: 2025-10-29 10:23:13 -0400
nebbiolo1Linux (Ubuntu 24.04.3 LTS) / x86_64  OK    OK    WARNINGS  YES
Package 15/23HostnameOS / ArchINSTALLBUILDCHECKBUILD BIN
OCplus 1.85.0  (landing page)
Alexander Ploner
git_last_commit: 57b9a1a
git_last_commit_date: 2025-10-29 09:57:49 -0400
nebbiolo1Linux (Ubuntu 24.04.3 LTS) / x86_64  OK    OK    OK  YES
Package 16/23HostnameOS / ArchINSTALLBUILDCHECKBUILD BIN
phyloseq 1.55.0  (landing page)
Paul J. McMurdie
git_last_commit: 3b97933
git_last_commit_date: 2025-10-29 10:10:12 -0400
nebbiolo1Linux (Ubuntu 24.04.3 LTS) / x86_64  OK    OK    WARNINGS  NO, package depends on 'Biostrings' which is not available
Package 17/23HostnameOS / ArchINSTALLBUILDCHECKBUILD BIN
PREDA 1.57.0  (landing page)
Francesco Ferrari
git_last_commit: 082ec94
git_last_commit_date: 2025-10-29 10:08:27 -0400
nebbiolo1Linux (Ubuntu 24.04.3 LTS) / x86_64  OK    OK    WARNINGS  NO, package depends on 'annotate' which is not available
Package 18/23HostnameOS / ArchINSTALLBUILDCHECKBUILD BIN
rain 1.45.0  (landing page)
Paul F. Thaben
git_last_commit: 5ed9a65
git_last_commit_date: 2025-10-29 10:21:22 -0400
nebbiolo1Linux (Ubuntu 24.04.3 LTS) / x86_64  OK    OK    OK  YES
Package 19/23HostnameOS / ArchINSTALLBUILDCHECKBUILD BIN
REDseq 1.57.0  (landing page)
Lihua Julie Zhu
git_last_commit: 05ac2ab
git_last_commit_date: 2025-10-29 10:07:45 -0400
nebbiolo1Linux (Ubuntu 24.04.3 LTS) / x86_64  ERROR    ERROR  skipped
Package 20/23HostnameOS / ArchINSTALLBUILDCHECKBUILD BIN
RTopper 1.57.0  (landing page)
Luigi Marchionni
git_last_commit: cedb1d4
git_last_commit_date: 2025-10-29 10:08:47 -0400
nebbiolo1Linux (Ubuntu 24.04.3 LTS) / x86_64  OK    OK    OK  YES
Package 21/23HostnameOS / ArchINSTALLBUILDCHECKBUILD BIN
siggenes 1.85.0  (landing page)
Holger Schwender
git_last_commit: d3b5d6f
git_last_commit_date: 2025-10-29 09:53:36 -0400
nebbiolo1Linux (Ubuntu 24.04.3 LTS) / x86_64  OK    OK    OK  YES
Package 22/23HostnameOS / ArchINSTALLBUILDCHECKBUILD BIN
singleCellTK 2.21.0  (landing page)
Joshua David Campbell
git_last_commit: 4895b66
git_last_commit_date: 2025-10-29 11:29:49 -0400
nebbiolo1Linux (Ubuntu 24.04.3 LTS) / x86_64  ERROR    ERROR  skipped
Package 23/23HostnameOS / ArchINSTALLBUILDCHECKBUILD BIN
webbioc 1.83.0  (landing page)
Colin A. Smith
git_last_commit: 8bbf95c
git_last_commit_date: 2025-10-29 09:54:04 -0400
nebbiolo1Linux (Ubuntu 24.04.3 LTS) / x86_64  OK    OK    OK  NO, package depends on 'affy' which is not available