Package: multistateQTL Version: 2.3.0 Command: /home/biocbuild/bbs-3.23-bioc/R/bin/R CMD INSTALL multistateQTL StartedAt: 2025-11-20 15:32:14 -0500 (Thu, 20 Nov 2025) EndedAt: 2025-11-20 15:32:41 -0500 (Thu, 20 Nov 2025) EllapsedTime: 27.1 seconds RetCode: 0 Status: OK